BEGIN:VCALENDAR
VERSION:2.0
PRODID:-//Welcome to RCCG, Restoration Court, Caledon - ECPv6.15.20//NONSGML v1.0//EN
CALSCALE:GREGORIAN
METHOD:PUBLISH
X-ORIGINAL-URL:https://rccgcaledon.ca
X-WR-CALDESC:Events for Welcome to RCCG, Restoration Court, Caledon
REFRESH-INTERVAL;VALUE=DURATION:PT1H
X-Robots-Tag:noindex
X-PUBLISHED-TTL:PT1H
BEGIN:VTIMEZONE
TZID:UTC
BEGIN:STANDARD
TZOFFSETFROM:+0000
TZOFFSETTO:+0000
TZNAME:UTC
DTSTART:20200101T000000
END:STANDARD
END:VTIMEZONE
BEGIN:VEVENT
DTSTART;TZID=UTC:20210613T100000
DTEND;TZID=UTC:20210613T120000
DTSTAMP:20260421T092241
CREATED:20210529T100144Z
LAST-MODIFIED:20210529T100144Z
UID:640-1623578400-1623585600@rccgcaledon.ca
SUMMARY:Encounter Service (Sunday)
DESCRIPTION:
URL:https://rccgcaledon.ca/event/encounter-service-sunday-3/
ATTACH;FMTTYPE=image/png:https://rccgcaledon.ca/wp-content/uploads/2021/03/RCCG-LOGO.png
END:VEVENT
BEGIN:VEVENT
DTSTART;TZID=UTC:20210611T080000
DTEND;TZID=UTC:20210612T001500
DTSTAMP:20260421T092241
CREATED:20210529T123018Z
LAST-MODIFIED:20210529T123018Z
UID:676-1623398400-1623456900@rccgcaledon.ca
SUMMARY:Call To Prayer (Friday)
DESCRIPTION:We are living in unusual and unprecedented times\, which call for us to seek God more closely as individuals\, families\, community and as a church community. The outbreak of Covid-19\, has heightened the need to turn to God\, in prayer\, for His mercy and help. His Word assures us that when we seek Him wholeheartedly\, He will respond. Our hope is built on Jesus Christ\, the Solid rock. Please join us at the following times as we cry out to our heavenly Father.
URL:https://rccgcaledon.ca/event/call-to-prayer-friday-2/
ATTACH;FMTTYPE=image/jpeg:https://rccgcaledon.ca/wp-content/uploads/2021/03/pexels-pixabay-372326.jpg
END:VEVENT
BEGIN:VEVENT
DTSTART;TZID=UTC:20210609T190000
DTEND;TZID=UTC:20210609T200000
DTSTAMP:20260421T092241
CREATED:20210529T102013Z
LAST-MODIFIED:20210529T102013Z
UID:659-1623265200-1623268800@rccgcaledon.ca
SUMMARY:Bible Study (Wednesday)
DESCRIPTION:Discovering the Truth &amp; Power in The Word
URL:https://rccgcaledon.ca/event/bible-study-wednesday-2/
ATTACH;FMTTYPE=image/jpeg:https://rccgcaledon.ca/wp-content/uploads/2021/03/pexels-masood-aslami-4052209-1.jpg
END:VEVENT
BEGIN:VEVENT
DTSTART;TZID=UTC:20210607T190000
DTEND;TZID=UTC:20210607T200000
DTSTAMP:20260421T092241
CREATED:20210529T101149Z
LAST-MODIFIED:20210529T101149Z
UID:649-1623092400-1623096000@rccgcaledon.ca
SUMMARY:Prayer Meeting (Monday)
DESCRIPTION:
URL:https://rccgcaledon.ca/event/prayer-meeting-monday-2/
ATTACH;FMTTYPE=image/jpeg:https://rccgcaledon.ca/wp-content/uploads/2021/03/pexels-pixabay-45842.jpg
END:VEVENT
BEGIN:VEVENT
DTSTART;TZID=UTC:20210606T100000
DTEND;TZID=UTC:20210606T120000
DTSTAMP:20260421T092241
CREATED:20210529T100054Z
LAST-MODIFIED:20210529T123605Z
UID:638-1622973600-1622980800@rccgcaledon.ca
SUMMARY:Encounter Service (Sunday)
DESCRIPTION:
URL:https://rccgcaledon.ca/event/encounter-service-sunday-2/
ATTACH;FMTTYPE=image/png:https://rccgcaledon.ca/wp-content/uploads/2021/03/RCCG-LOGO.png
END:VEVENT
BEGIN:VEVENT
DTSTART;TZID=UTC:20210604T230000
DTEND;TZID=UTC:20210605T001500
DTSTAMP:20260421T092241
CREATED:20210529T122815Z
LAST-MODIFIED:20210529T122849Z
UID:675-1622847600-1622852100@rccgcaledon.ca
SUMMARY:Call To Prayer (Friday)
DESCRIPTION:We are living in unusual and unprecedented times\, which call for us to seek God more closely as individuals\, families\, community and as a church community. The outbreak of Covid-19\, has heightened the need to turn to God\, in prayer\, for His mercy and help. His Word assures us that when we seek Him wholeheartedly\, He will respond. Our hope is built on Jesus Christ\, the Solid rock. Please join us at the following times as we cry out to our heavenly Father.
URL:https://rccgcaledon.ca/event/call-to-prayer-friday/
ATTACH;FMTTYPE=image/jpeg:https://rccgcaledon.ca/wp-content/uploads/2021/03/pexels-pixabay-372326.jpg
END:VEVENT
BEGIN:VEVENT
DTSTART;TZID=UTC:20210602T190000
DTEND;TZID=UTC:20210602T200000
DTSTAMP:20260421T092241
CREATED:20210529T101807Z
LAST-MODIFIED:20210529T101807Z
UID:657-1622660400-1622664000@rccgcaledon.ca
SUMMARY:Bible Study (Wednesday)
DESCRIPTION:Discovering the Truth &amp; Power in The Word
URL:https://rccgcaledon.ca/event/bible-study-wednesday/
ATTACH;FMTTYPE=image/jpeg:https://rccgcaledon.ca/wp-content/uploads/2021/03/pexels-johnmark-smith-250609.jpg
END:VEVENT
BEGIN:VEVENT
DTSTART;TZID=UTC:20210531T190000
DTEND;TZID=UTC:20210531T200000
DTSTAMP:20260421T092241
CREATED:20210529T101047Z
LAST-MODIFIED:20210529T101047Z
UID:647-1622487600-1622491200@rccgcaledon.ca
SUMMARY:Prayer Meeting (Monday)
DESCRIPTION:
URL:https://rccgcaledon.ca/event/prayer-meeting-monday/
ATTACH;FMTTYPE=image/jpeg:https://rccgcaledon.ca/wp-content/uploads/2021/03/pexels-pixabay-45842.jpg
END:VEVENT
BEGIN:VEVENT
DTSTART;TZID=UTC:20210530T100000
DTEND;TZID=UTC:20210530T130000
DTSTAMP:20260421T092241
CREATED:20210529T095740Z
LAST-MODIFIED:20210529T095922Z
UID:636-1622368800-1622379600@rccgcaledon.ca
SUMMARY:Encounter Service (Sunday)
DESCRIPTION:
URL:https://rccgcaledon.ca/event/encounter-service-sunday/
ATTACH;FMTTYPE=image/png:https://rccgcaledon.ca/wp-content/uploads/2021/03/RCCG-LOGO.png
END:VEVENT
BEGIN:VEVENT
DTSTART;TZID=UTC:20210529T080000
DTEND;TZID=UTC:20210529T170000
DTSTAMP:20260421T092241
CREATED:20210529T102618Z
LAST-MODIFIED:20210529T102618Z
UID:665-1622275200-1622307600@rccgcaledon.ca
SUMMARY:Bible Study (Wednesday)
DESCRIPTION:Discovering the Truth &amp; Power in The Word
URL:https://rccgcaledon.ca/event/bible-study-wednesday-5/
ATTACH;FMTTYPE=image/jpeg:https://rccgcaledon.ca/wp-content/uploads/2021/03/pexels-masood-aslami-4052209-1.jpg
END:VEVENT
BEGIN:VEVENT
DTSTART;TZID=UTC:20210418T080000
DTEND;TZID=UTC:20210418T170000
DTSTAMP:20260421T092241
CREATED:20210318T194954Z
LAST-MODIFIED:20210329T190902Z
UID:507-1618732800-1618765200@rccgcaledon.ca
SUMMARY:Sunday Service
DESCRIPTION:
URL:https://rccgcaledon.ca/event/sunday-service/
ATTACH;FMTTYPE=image/png:https://rccgcaledon.ca/wp-content/uploads/2021/03/RCCG-LOGO.png
END:VEVENT
BEGIN:VEVENT
DTSTART;TZID=UTC:20210411T080000
DTEND;TZID=UTC:20210411T170000
DTSTAMP:20260421T092241
CREATED:20210318T195158Z
LAST-MODIFIED:20210329T190802Z
UID:518-1618128000-1618160400@rccgcaledon.ca
SUMMARY:Sunday Service
DESCRIPTION:
URL:https://rccgcaledon.ca/event/sunday-service-2/
ATTACH;FMTTYPE=image/png:https://rccgcaledon.ca/wp-content/uploads/2021/03/RCCG-LOGO.png
END:VEVENT
BEGIN:VEVENT
DTSTART;TZID=UTC:20210404T080000
DTEND;TZID=UTC:20210404T170000
DTSTAMP:20260421T092241
CREATED:20210318T195353Z
LAST-MODIFIED:20210318T195353Z
UID:520-1617523200-1617555600@rccgcaledon.ca
SUMMARY:Thanksgiving Service
DESCRIPTION:
URL:https://rccgcaledon.ca/event/thanksgiving-service/
ATTACH;FMTTYPE=image/png:https://rccgcaledon.ca/wp-content/uploads/2021/03/RCCG-LOGO.png
END:VEVENT
END:VCALENDAR