BEGIN:VCALENDAR
VERSION:2.0
PRODID:-//Welcome to RCCG, Restoration Court, Caledon - ECPv6.15.20//NONSGML v1.0//EN
CALSCALE:GREGORIAN
METHOD:PUBLISH
X-WR-CALNAME:Welcome to RCCG, Restoration Court, Caledon
X-ORIGINAL-URL:https://rccgcaledon.ca
X-WR-CALDESC:Events for Welcome to RCCG, Restoration Court, Caledon
REFRESH-INTERVAL;VALUE=DURATION:PT1H
X-Robots-Tag:noindex
X-PUBLISHED-TTL:PT1H
BEGIN:VTIMEZONE
TZID:UTC
BEGIN:STANDARD
TZOFFSETFROM:+0000
TZOFFSETTO:+0000
TZNAME:UTC
DTSTART:20200101T000000
END:STANDARD
END:VTIMEZONE
BEGIN:VTIMEZONE
TZID:America/Halifax
BEGIN:DAYLIGHT
TZOFFSETFROM:-0400
TZOFFSETTO:-0300
TZNAME:ADT
DTSTART:20200308T060000
END:DAYLIGHT
BEGIN:STANDARD
TZOFFSETFROM:-0300
TZOFFSETTO:-0400
TZNAME:AST
DTSTART:20201101T050000
END:STANDARD
BEGIN:DAYLIGHT
TZOFFSETFROM:-0400
TZOFFSETTO:-0300
TZNAME:ADT
DTSTART:20210314T060000
END:DAYLIGHT
BEGIN:STANDARD
TZOFFSETFROM:-0300
TZOFFSETTO:-0400
TZNAME:AST
DTSTART:20211107T050000
END:STANDARD
BEGIN:DAYLIGHT
TZOFFSETFROM:-0400
TZOFFSETTO:-0300
TZNAME:ADT
DTSTART:20220313T060000
END:DAYLIGHT
BEGIN:STANDARD
TZOFFSETFROM:-0300
TZOFFSETTO:-0400
TZNAME:AST
DTSTART:20221106T050000
END:STANDARD
END:VTIMEZONE
BEGIN:VEVENT
DTSTART;TZID=UTC:20250511T080000
DTEND;TZID=UTC:20250511T170000
DTSTAMP:20260421T081204
CREATED:20250524T210247Z
LAST-MODIFIED:20250524T210247Z
UID:796-1746950400-1746982800@rccgcaledon.ca
SUMMARY:Mothers Day celebration
DESCRIPTION:
URL:https://rccgcaledon.ca/event/mothers-day-celebration/
ATTACH;FMTTYPE=image/jpeg:https://rccgcaledon.ca/wp-content/uploads/2025/05/WhatsApp-Image-2025-05-18-at-01.27.32.jpeg
END:VEVENT
BEGIN:VEVENT
DTSTART;TZID=UTC:20250420T100000
DTEND;TZID=UTC:20250420T170000
DTSTAMP:20260421T081204
CREATED:20250414T083050Z
LAST-MODIFIED:20250524T212656Z
UID:790-1745143200-1745168400@rccgcaledon.ca
SUMMARY:Sounds of Praise
DESCRIPTION:
URL:https://rccgcaledon.ca/event/sounds-of-praise/
ATTACH;FMTTYPE=image/jpeg:https://rccgcaledon.ca/wp-content/uploads/2025/04/PHOTO-2025-04-13-12-18-41.jpg
END:VEVENT
BEGIN:VEVENT
DTSTART;TZID=UTC:20240818T080000
DTEND;TZID=UTC:20240818T170000
DTSTAMP:20260421T081204
CREATED:20250524T211650Z
LAST-MODIFIED:20250524T212243Z
UID:800-1723968000-1724000400@rccgcaledon.ca
SUMMARY:BBQ Community Outreach
DESCRIPTION:The stage is set for the Grocery GiveAways tomorrow. The pastorate will like to appreciate the brethren that joined the Adams family to arrange and organise the items. The Lord God Almighty will bless and reward your labour of love in Jesus Mighty Name. You will enjoy the fruit of your labour and the Lord shall organise honour for you.
URL:https://rccgcaledon.ca/event/bbq-community-outreach/
ATTACH;FMTTYPE=image/jpeg:https://rccgcaledon.ca/wp-content/uploads/2025/05/WhatsApp-Image-2025-05-18-at-01.27.58.jpeg
END:VEVENT
BEGIN:VEVENT
DTSTART;TZID=UTC:20240317T100000
DTEND;TZID=UTC:20240317T140000
DTSTAMP:20260421T081204
CREATED:20210529T123228Z
LAST-MODIFIED:20240312T035911Z
UID:678-1710669600-1710684000@rccgcaledon.ca
SUMMARY:Immigration Refugees and Citizenship in Canada
DESCRIPTION:
URL:https://rccgcaledon.ca/event/immigration-refugees-and-citizenship-in-canada/
ATTACH;FMTTYPE=image/jpeg:https://rccgcaledon.ca/wp-content/uploads/2021/05/e9df79b5-1cfd-41d5-9292-f2ad8f68089e.jpg
END:VEVENT
BEGIN:VEVENT
DTSTART;TZID=UTC:20231001T100000
DTEND;TZID=UTC:20231001T170000
DTSTAMP:20260421T081204
CREATED:20230925T170800Z
LAST-MODIFIED:20230925T170800Z
UID:766-1696154400-1696179600@rccgcaledon.ca
SUMMARY:Special Thanksgiving
DESCRIPTION:Join us for an exciting experience with the Lord.\n 
URL:https://rccgcaledon.ca/event/special-thanksgiving/
ATTACH;FMTTYPE=image/jpeg:https://rccgcaledon.ca/wp-content/uploads/2021/03/pexels-rahul-pandit-1652353.jpg
END:VEVENT
BEGIN:VEVENT
DTSTART;TZID=UTC:20210925T090000
DTEND;TZID=UTC:20210925T100000
DTSTAMP:20260421T081204
CREATED:20210904T205644Z
LAST-MODIFIED:20210904T205644Z
UID:749-1632560400-1632564000@rccgcaledon.ca
SUMMARY:Mother's Meeting
DESCRIPTION:Mothers are the pillars of the home. a time to cry out to God for our children\, spouses and the welfare of the home.
URL:https://rccgcaledon.ca/event/mothers-meeting/
ATTACH;FMTTYPE=image/jpeg:https://rccgcaledon.ca/wp-content/uploads/2021/03/pexels-pixabay-372326.jpg
END:VEVENT
BEGIN:VEVENT
DTSTART;TZID=UTC:20210915T190000
DTEND;TZID=UTC:20210915T200000
DTSTAMP:20260421T081204
CREATED:20210904T202753Z
LAST-MODIFIED:20210904T202753Z
UID:725-1631732400-1631736000@rccgcaledon.ca
SUMMARY:Bible Study
DESCRIPTION:Let’s come together to study to show ourselves approved\, a workman who need not to be ashamed. Its time to learn at His feet.
URL:https://rccgcaledon.ca/event/bible-study/
ATTACH;FMTTYPE=image/jpeg:https://rccgcaledon.ca/wp-content/uploads/2021/03/pexels-luis-quintero-2351719-1.jpg
END:VEVENT
BEGIN:VEVENT
DTSTART;TZID=America/Halifax:20210913T190000
DTEND;TZID=America/Halifax:20210913T200000
DTSTAMP:20260421T081204
CREATED:20210904T202241Z
LAST-MODIFIED:20210904T202241Z
UID:722-1631559600-1631563200@rccgcaledon.ca
SUMMARY:Prayer Meeting
DESCRIPTION:We will be gathering  to pray for our selves\, our children\, family\, business committing everything imto Gods hands.
URL:https://rccgcaledon.ca/event/prayer-meeting/
ATTACH;FMTTYPE=image/jpeg:https://rccgcaledon.ca/wp-content/uploads/2021/03/pexels-pixabay-45842.jpg
END:VEVENT
BEGIN:VEVENT
DTSTART;TZID=UTC:20210730T220000
DTEND;TZID=UTC:20210730T233000
DTSTAMP:20260421T081204
CREATED:20210529T122118Z
LAST-MODIFIED:20210529T122118Z
UID:672-1627682400-1627687800@rccgcaledon.ca
SUMMARY:Night of An Encounter
DESCRIPTION:Please join us online via Zoom ID # 615 130 6429\, last Friday of every month.
URL:https://rccgcaledon.ca/event/night-of-an-encounter-2/
ATTACH;FMTTYPE=image/jpeg:https://rccgcaledon.ca/wp-content/uploads/2021/05/pexels-skitterphoto-597056.jpg
END:VEVENT
BEGIN:VEVENT
DTSTART;TZID=UTC:20210702T230000
DTEND;TZID=UTC:20210703T001500
DTSTAMP:20260421T081204
CREATED:20210529T123324Z
LAST-MODIFIED:20210529T123324Z
UID:674-1625266800-1625271300@rccgcaledon.ca
SUMMARY:Call To Prayer (Friday)
DESCRIPTION:We are living in unusual and unprecedented times\, which call for us to seek God more closely as individuals\, families\, community and as a church community. The outbreak of Covid-19\, has heightened the need to turn to God\, in prayer\, for His mercy and help. His Word assures us that when we seek Him wholeheartedly\, He will respond. Our hope is built on Jesus Christ\, the Solid rock. Please join us at the following times as we cry out to our heavenly Father.
URL:https://rccgcaledon.ca/event/call-to-prayer-friday-5/
ATTACH;FMTTYPE=image/jpeg:https://rccgcaledon.ca/wp-content/uploads/2021/03/pexels-pixabay-372326.jpg
END:VEVENT
BEGIN:VEVENT
DTSTART;TZID=UTC:20210630T190000
DTEND;TZID=UTC:20210630T200000
DTSTAMP:20260421T081204
CREATED:20210529T121322Z
LAST-MODIFIED:20210529T121322Z
UID:667-1625079600-1625083200@rccgcaledon.ca
SUMMARY:Bible Study (Wednesday)
DESCRIPTION:Discovering the Truth &amp; Power in The Word
URL:https://rccgcaledon.ca/event/bible-study-wednesday-6/
ATTACH;FMTTYPE=image/jpeg:https://rccgcaledon.ca/wp-content/uploads/2021/03/pexels-masood-aslami-4052209-1.jpg
END:VEVENT
BEGIN:VEVENT
DTSTART;TZID=UTC:20210628T190000
DTEND;TZID=UTC:20210628T200000
DTSTAMP:20260421T081204
CREATED:20210529T101523Z
LAST-MODIFIED:20210529T101523Z
UID:655-1624906800-1624910400@rccgcaledon.ca
SUMMARY:Prayer Meeting (Monday)
DESCRIPTION:
URL:https://rccgcaledon.ca/event/prayer-meeting-monday-5/
ATTACH;FMTTYPE=image/jpeg:https://rccgcaledon.ca/wp-content/uploads/2021/03/pexels-pixabay-45842.jpg
END:VEVENT
BEGIN:VEVENT
DTSTART;TZID=UTC:20210627T100000
DTEND;TZID=UTC:20210627T120000
DTSTAMP:20260421T081204
CREATED:20210529T100403Z
LAST-MODIFIED:20210529T100403Z
UID:644-1624788000-1624795200@rccgcaledon.ca
SUMMARY:Encounter Service (Sunday)
DESCRIPTION:
URL:https://rccgcaledon.ca/event/encounter-service-sunday-5/
ATTACH;FMTTYPE=image/png:https://rccgcaledon.ca/wp-content/uploads/2021/03/RCCG-LOGO.png
END:VEVENT
BEGIN:VEVENT
DTSTART;TZID=UTC:20210625T220000
DTEND;TZID=UTC:20210625T233000
DTSTAMP:20260421T081204
CREATED:20210529T121850Z
LAST-MODIFIED:20210529T121850Z
UID:669-1624658400-1624663800@rccgcaledon.ca
SUMMARY:Night of An Encounter
DESCRIPTION:Please join us online via Zoom ID # 615 130 6429
URL:https://rccgcaledon.ca/event/night-of-an-encounter/
ATTACH;FMTTYPE=image/jpeg:https://rccgcaledon.ca/wp-content/uploads/2021/05/pexels-skitterphoto-597056.jpg
END:VEVENT
BEGIN:VEVENT
DTSTART;TZID=UTC:20210623T080000
DTEND;TZID=UTC:20210623T170000
DTSTAMP:20260421T081204
CREATED:20210529T102409Z
LAST-MODIFIED:20210529T102409Z
UID:663-1624435200-1624467600@rccgcaledon.ca
SUMMARY:Bible Study (Wednesday)
DESCRIPTION:Discovering the Truth &amp; Power in The Word
URL:https://rccgcaledon.ca/event/bible-study-wednesday-4/
ATTACH;FMTTYPE=image/jpeg:https://rccgcaledon.ca/wp-content/uploads/2021/03/pexels-masood-aslami-4052209-1.jpg
END:VEVENT
BEGIN:VEVENT
DTSTART;TZID=UTC:20210621T190000
DTEND;TZID=UTC:20210621T200000
DTSTAMP:20260421T081204
CREATED:20210529T101426Z
LAST-MODIFIED:20210529T101426Z
UID:653-1624302000-1624305600@rccgcaledon.ca
SUMMARY:Prayer Meeting (Monday)
DESCRIPTION:
URL:https://rccgcaledon.ca/event/prayer-meeting-monday-4/
ATTACH;FMTTYPE=image/jpeg:https://rccgcaledon.ca/wp-content/uploads/2021/03/pexels-pixabay-45842.jpg
END:VEVENT
BEGIN:VEVENT
DTSTART;TZID=UTC:20210620T100000
DTEND;TZID=UTC:20210620T120000
DTSTAMP:20260421T081204
CREATED:20210529T100252Z
LAST-MODIFIED:20210529T100252Z
UID:642-1624183200-1624190400@rccgcaledon.ca
SUMMARY:Encounter Service (Sunday)
DESCRIPTION:
URL:https://rccgcaledon.ca/event/encounter-service-sunday-4/
ATTACH;FMTTYPE=image/png:https://rccgcaledon.ca/wp-content/uploads/2021/03/RCCG-LOGO.png
END:VEVENT
BEGIN:VEVENT
DTSTART;TZID=UTC:20210618T230000
DTEND;TZID=UTC:20210619T001500
DTSTAMP:20260421T081204
CREATED:20210529T123104Z
LAST-MODIFIED:20210529T123135Z
UID:677-1624057200-1624061700@rccgcaledon.ca
SUMMARY:Call To Prayer (Friday)
DESCRIPTION:We are living in unusual and unprecedented times\, which call for us to seek God more closely as individuals\, families\, community and as a church community. The outbreak of Covid-19\, has heightened the need to turn to God\, in prayer\, for His mercy and help. His Word assures us that when we seek Him wholeheartedly\, He will respond. Our hope is built on Jesus Christ\, the Solid rock. Please join us at the following times as we cry out to our heavenly Father.
URL:https://rccgcaledon.ca/event/call-to-prayer-friday-3/
ATTACH;FMTTYPE=image/jpeg:https://rccgcaledon.ca/wp-content/uploads/2021/03/pexels-pixabay-372326.jpg
END:VEVENT
BEGIN:VEVENT
DTSTART;TZID=UTC:20210616T080000
DTEND;TZID=UTC:20210616T170000
DTSTAMP:20260421T081204
CREATED:20210529T102246Z
LAST-MODIFIED:20210529T102246Z
UID:661-1623830400-1623862800@rccgcaledon.ca
SUMMARY:Bible Study (Wednesday)
DESCRIPTION:Discovering the Truth &amp; Power in The Word
URL:https://rccgcaledon.ca/event/bible-study-wednesday-3/
ATTACH;FMTTYPE=image/jpeg:https://rccgcaledon.ca/wp-content/uploads/2021/03/pexels-masood-aslami-4052209-1.jpg
END:VEVENT
BEGIN:VEVENT
DTSTART;TZID=UTC:20210614T190000
DTEND;TZID=UTC:20210614T200000
DTSTAMP:20260421T081204
CREATED:20210529T101306Z
LAST-MODIFIED:20210529T101306Z
UID:651-1623697200-1623700800@rccgcaledon.ca
SUMMARY:Prayer Meeting (Monday)
DESCRIPTION:
URL:https://rccgcaledon.ca/event/prayer-meeting-monday-3/
ATTACH;FMTTYPE=image/jpeg:https://rccgcaledon.ca/wp-content/uploads/2021/03/pexels-pixabay-45842.jpg
END:VEVENT
BEGIN:VEVENT
DTSTART;TZID=UTC:20210613T100000
DTEND;TZID=UTC:20210613T120000
DTSTAMP:20260421T081204
CREATED:20210529T100144Z
LAST-MODIFIED:20210529T100144Z
UID:640-1623578400-1623585600@rccgcaledon.ca
SUMMARY:Encounter Service (Sunday)
DESCRIPTION:
URL:https://rccgcaledon.ca/event/encounter-service-sunday-3/
ATTACH;FMTTYPE=image/png:https://rccgcaledon.ca/wp-content/uploads/2021/03/RCCG-LOGO.png
END:VEVENT
BEGIN:VEVENT
DTSTART;TZID=UTC:20210611T080000
DTEND;TZID=UTC:20210612T001500
DTSTAMP:20260421T081204
CREATED:20210529T123018Z
LAST-MODIFIED:20210529T123018Z
UID:676-1623398400-1623456900@rccgcaledon.ca
SUMMARY:Call To Prayer (Friday)
DESCRIPTION:We are living in unusual and unprecedented times\, which call for us to seek God more closely as individuals\, families\, community and as a church community. The outbreak of Covid-19\, has heightened the need to turn to God\, in prayer\, for His mercy and help. His Word assures us that when we seek Him wholeheartedly\, He will respond. Our hope is built on Jesus Christ\, the Solid rock. Please join us at the following times as we cry out to our heavenly Father.
URL:https://rccgcaledon.ca/event/call-to-prayer-friday-2/
ATTACH;FMTTYPE=image/jpeg:https://rccgcaledon.ca/wp-content/uploads/2021/03/pexels-pixabay-372326.jpg
END:VEVENT
BEGIN:VEVENT
DTSTART;TZID=UTC:20210609T190000
DTEND;TZID=UTC:20210609T200000
DTSTAMP:20260421T081204
CREATED:20210529T102013Z
LAST-MODIFIED:20210529T102013Z
UID:659-1623265200-1623268800@rccgcaledon.ca
SUMMARY:Bible Study (Wednesday)
DESCRIPTION:Discovering the Truth &amp; Power in The Word
URL:https://rccgcaledon.ca/event/bible-study-wednesday-2/
ATTACH;FMTTYPE=image/jpeg:https://rccgcaledon.ca/wp-content/uploads/2021/03/pexels-masood-aslami-4052209-1.jpg
END:VEVENT
BEGIN:VEVENT
DTSTART;TZID=UTC:20210607T190000
DTEND;TZID=UTC:20210607T200000
DTSTAMP:20260421T081204
CREATED:20210529T101149Z
LAST-MODIFIED:20210529T101149Z
UID:649-1623092400-1623096000@rccgcaledon.ca
SUMMARY:Prayer Meeting (Monday)
DESCRIPTION:
URL:https://rccgcaledon.ca/event/prayer-meeting-monday-2/
ATTACH;FMTTYPE=image/jpeg:https://rccgcaledon.ca/wp-content/uploads/2021/03/pexels-pixabay-45842.jpg
END:VEVENT
BEGIN:VEVENT
DTSTART;TZID=UTC:20210606T100000
DTEND;TZID=UTC:20210606T120000
DTSTAMP:20260421T081204
CREATED:20210529T100054Z
LAST-MODIFIED:20210529T123605Z
UID:638-1622973600-1622980800@rccgcaledon.ca
SUMMARY:Encounter Service (Sunday)
DESCRIPTION:
URL:https://rccgcaledon.ca/event/encounter-service-sunday-2/
ATTACH;FMTTYPE=image/png:https://rccgcaledon.ca/wp-content/uploads/2021/03/RCCG-LOGO.png
END:VEVENT
BEGIN:VEVENT
DTSTART;TZID=UTC:20210604T230000
DTEND;TZID=UTC:20210605T001500
DTSTAMP:20260421T081204
CREATED:20210529T122815Z
LAST-MODIFIED:20210529T122849Z
UID:675-1622847600-1622852100@rccgcaledon.ca
SUMMARY:Call To Prayer (Friday)
DESCRIPTION:We are living in unusual and unprecedented times\, which call for us to seek God more closely as individuals\, families\, community and as a church community. The outbreak of Covid-19\, has heightened the need to turn to God\, in prayer\, for His mercy and help. His Word assures us that when we seek Him wholeheartedly\, He will respond. Our hope is built on Jesus Christ\, the Solid rock. Please join us at the following times as we cry out to our heavenly Father.
URL:https://rccgcaledon.ca/event/call-to-prayer-friday/
ATTACH;FMTTYPE=image/jpeg:https://rccgcaledon.ca/wp-content/uploads/2021/03/pexels-pixabay-372326.jpg
END:VEVENT
BEGIN:VEVENT
DTSTART;TZID=UTC:20210602T190000
DTEND;TZID=UTC:20210602T200000
DTSTAMP:20260421T081204
CREATED:20210529T101807Z
LAST-MODIFIED:20210529T101807Z
UID:657-1622660400-1622664000@rccgcaledon.ca
SUMMARY:Bible Study (Wednesday)
DESCRIPTION:Discovering the Truth &amp; Power in The Word
URL:https://rccgcaledon.ca/event/bible-study-wednesday/
ATTACH;FMTTYPE=image/jpeg:https://rccgcaledon.ca/wp-content/uploads/2021/03/pexels-johnmark-smith-250609.jpg
END:VEVENT
BEGIN:VEVENT
DTSTART;TZID=UTC:20210531T190000
DTEND;TZID=UTC:20210531T200000
DTSTAMP:20260421T081204
CREATED:20210529T101047Z
LAST-MODIFIED:20210529T101047Z
UID:647-1622487600-1622491200@rccgcaledon.ca
SUMMARY:Prayer Meeting (Monday)
DESCRIPTION:
URL:https://rccgcaledon.ca/event/prayer-meeting-monday/
ATTACH;FMTTYPE=image/jpeg:https://rccgcaledon.ca/wp-content/uploads/2021/03/pexels-pixabay-45842.jpg
END:VEVENT
BEGIN:VEVENT
DTSTART;TZID=UTC:20210530T100000
DTEND;TZID=UTC:20210530T130000
DTSTAMP:20260421T081204
CREATED:20210529T095740Z
LAST-MODIFIED:20210529T095922Z
UID:636-1622368800-1622379600@rccgcaledon.ca
SUMMARY:Encounter Service (Sunday)
DESCRIPTION:
URL:https://rccgcaledon.ca/event/encounter-service-sunday/
ATTACH;FMTTYPE=image/png:https://rccgcaledon.ca/wp-content/uploads/2021/03/RCCG-LOGO.png
END:VEVENT
BEGIN:VEVENT
DTSTART;TZID=UTC:20210529T080000
DTEND;TZID=UTC:20210529T170000
DTSTAMP:20260421T081204
CREATED:20210529T102618Z
LAST-MODIFIED:20210529T102618Z
UID:665-1622275200-1622307600@rccgcaledon.ca
SUMMARY:Bible Study (Wednesday)
DESCRIPTION:Discovering the Truth &amp; Power in The Word
URL:https://rccgcaledon.ca/event/bible-study-wednesday-5/
ATTACH;FMTTYPE=image/jpeg:https://rccgcaledon.ca/wp-content/uploads/2021/03/pexels-masood-aslami-4052209-1.jpg
END:VEVENT
END:VCALENDAR